BEGIN:VCALENDAR
VERSION:2.0
PRODID:-//hacksw/handcal//NONSGML v1.0//EN
BEGIN:VEVENT
SUMMARY:Resultat DM3
UID:50e94ab0-ea8e-41de-ae39-e595cde8e038
DTSTART:20260410T220000Z
DTEND:20260411T220000Z
LOCATION:Localisation   
CATEGORIES:Sportif
STATUS:
URL;VALUE=URI:https://acan-basket.sportsregions.fr/evenements/2026/04/11/resultat-dm3-1869917
END:VEVENT
END:VCALENDAR
