BEGIN:VCALENDAR
VERSION:2.0
PRODID:-//hacksw/handcal//NONSGML v1.0//EN
BEGIN:VEVENT
SUMMARY:Resultat U11M
UID:ce18707a-ae40-4e85-bf6f-2d840c5b31d5
DTSTART:20260410T220000Z
DTEND:20260411T220000Z
LOCATION:Localisation   
CATEGORIES:Sportif
STATUS:
URL;VALUE=URI:https://acan-basket.sportsregions.fr/evenements/2026/04/11/resultat-u11m-1869937
END:VEVENT
END:VCALENDAR
