BEGIN:VCALENDAR
VERSION:2.0
PRODID:-//hacksw/handcal//NONSGML v1.0//EN
BEGIN:VEVENT
SUMMARY:Resultat U13F
UID:a32d8f09-8add-4b8a-829b-fddf51276ba5
DTSTART:20260410T220000Z
DTEND:20260411T220000Z
LOCATION:Localisation   
CATEGORIES:Sportif
STATUS:
URL;VALUE=URI:https://acan-basket.sportsregions.fr/evenements/2026/04/11/resultat-u13f-1869934
END:VEVENT
END:VCALENDAR
