BEGIN:VCALENDAR
VERSION:2.0
PRODID:-//hacksw/handcal//NONSGML v1.0//EN
BEGIN:VEVENT
SUMMARY:Resultat U15M
UID:227bea76-7679-415a-b37c-389bdeec2572
DTSTART:20260410T220000Z
DTEND:20260411T220000Z
LOCATION:Localisation   
CATEGORIES:Sportif
STATUS:
URL;VALUE=URI:https://acan-basket.sportsregions.fr/evenements/2026/04/11/resultat-u15m-1869931
END:VEVENT
END:VCALENDAR
