BEGIN:VCALENDAR
VERSION:2.0
PRODID:-//hacksw/handcal//NONSGML v1.0//EN
BEGIN:VEVENT
SUMMARY:Resultat RF2
UID:7813d592-d7b7-4ff3-ac9e-545d9d237ece
DTSTART:20260411T220000Z
DTEND:20260412T220000Z
LOCATION:Localisation   
CATEGORIES:Sportif
STATUS:
URL;VALUE=URI:https://acan-basket.sportsregions.fr/evenements/2026/04/12/resultat-rf2-1869907
END:VEVENT
END:VCALENDAR
